BEGIN:VCALENDAR
VERSION:2.0
PRODID:-//The Hive Inclusive Community - ECPv6.15.20//NONSGML v1.0//EN
CALSCALE:GREGORIAN
METHOD:PUBLISH
X-WR-CALNAME:The Hive Inclusive Community
X-ORIGINAL-URL:https://theinclusivehive.org
X-WR-CALDESC:Events for The Hive Inclusive Community
REFRESH-INTERVAL;VALUE=DURATION:PT1H
X-Robots-Tag:noindex
X-PUBLISHED-TTL:PT1H
BEGIN:VTIMEZONE
TZID:America/New_York
BEGIN:DAYLIGHT
TZOFFSETFROM:-0500
TZOFFSETTO:-0400
TZNAME:EDT
DTSTART:20220313T070000
END:DAYLIGHT
BEGIN:STANDARD
TZOFFSETFROM:-0400
TZOFFSETTO:-0500
TZNAME:EST
DTSTART:20221106T060000
END:STANDARD
BEGIN:DAYLIGHT
TZOFFSETFROM:-0500
TZOFFSETTO:-0400
TZNAME:EDT
DTSTART:20230312T070000
END:DAYLIGHT
BEGIN:STANDARD
TZOFFSETFROM:-0400
TZOFFSETTO:-0500
TZNAME:EST
DTSTART:20231105T060000
END:STANDARD
BEGIN:DAYLIGHT
TZOFFSETFROM:-0500
TZOFFSETTO:-0400
TZNAME:EDT
DTSTART:20240310T070000
END:DAYLIGHT
BEGIN:STANDARD
TZOFFSETFROM:-0400
TZOFFSETTO:-0500
TZNAME:EST
DTSTART:20241103T060000
END:STANDARD
END:VTIMEZONE
BEGIN:VEVENT
DTSTART;TZID=America/New_York:20230625T190000
DTEND;TZID=America/New_York:20230625T210000
DTSTAMP:20260423T060909
CREATED:20230516T125637Z
LAST-MODIFIED:20230527T011751Z
UID:3006-1687719600-1687726800@theinclusivehive.org
SUMMARY:Fashion Show
DESCRIPTION:  Join us Sunday\, June 25th\, at 1920 Ybor Concert Venue for The Hive’s Inclusive Fashion Show. VIP 6 PM. General Admit 7 – 9 PM.\nThe Fashion Show fundraiser will highlight the beauty of inclusion. Local designers will be showcased with our community members and friends modeling their creations. We are excited to introduce Autistic Fashion Designer Aarushi Pratap to the fashion community. Our members and friends will also be wearing 70s inspired line Dorothy Zudora and showcasing sustainable clothing from Valhalla clothing store. \n                                \nJoin us June 25 at the 1920 Ybor Concert Venue. This event is being produced by DCE Productions. \nThe VIP Tickets include a Meet and Greet with our designers at 6 PM and VIP seating for $40. General admission is $25.  \n  \n 
URL:https://theinclusivehive.org/event/fashion-show/
LOCATION:1920 Ybor City Concert Venue\, 1920 E. 7th Avenue\, Yblor\, 33605\, United States
CATEGORIES:Fundraiser,Social Event
END:VEVENT
END:VCALENDAR