BEGIN:VCALENDAR
VERSION:2.0
PRODID:-//The Hive Inclusive Community - ECPv6.15.20//NONSGML v1.0//EN
CALSCALE:GREGORIAN
METHOD:PUBLISH
X-ORIGINAL-URL:https://theinclusivehive.org
X-WR-CALDESC:Events for The Hive Inclusive Community
REFRESH-INTERVAL;VALUE=DURATION:PT1H
X-Robots-Tag:noindex
X-PUBLISHED-TTL:PT1H
BEGIN:VTIMEZONE
TZID:America/New_York
BEGIN:DAYLIGHT
TZOFFSETFROM:-0500
TZOFFSETTO:-0400
TZNAME:EDT
DTSTART:20210314T070000
END:DAYLIGHT
BEGIN:STANDARD
TZOFFSETFROM:-0400
TZOFFSETTO:-0500
TZNAME:EST
DTSTART:20211107T060000
END:STANDARD
BEGIN:DAYLIGHT
TZOFFSETFROM:-0500
TZOFFSETTO:-0400
TZNAME:EDT
DTSTART:20220313T070000
END:DAYLIGHT
BEGIN:STANDARD
TZOFFSETFROM:-0400
TZOFFSETTO:-0500
TZNAME:EST
DTSTART:20221106T060000
END:STANDARD
BEGIN:DAYLIGHT
TZOFFSETFROM:-0500
TZOFFSETTO:-0400
TZNAME:EDT
DTSTART:20230312T070000
END:DAYLIGHT
BEGIN:STANDARD
TZOFFSETFROM:-0400
TZOFFSETTO:-0500
TZNAME:EST
DTSTART:20231105T060000
END:STANDARD
END:VTIMEZONE
BEGIN:VEVENT
DTSTART;TZID=America/New_York:20221203T123000
DTEND;TZID=America/New_York:20221203T133000
DTSTAMP:20260423T060703
CREATED:20221024T170528Z
LAST-MODIFIED:20221024T170620Z
UID:1959-1670070600-1670074200@theinclusivehive.org
SUMMARY:Caregiver Support Group
DESCRIPTION:Free with Membership
URL:https://theinclusivehive.org/event/caregiver-support-group-4/
LOCATION:Bayshore Baptist Church\, 3111 W. Morrison\, Tampa\, FL\, 33629\, United States
END:VEVENT
BEGIN:VEVENT
DTSTART;TZID=America/New_York:20221203T123000
DTEND;TZID=America/New_York:20221203T133000
DTSTAMP:20260423T060703
CREATED:20221024T170744Z
LAST-MODIFIED:20221024T170744Z
UID:1962-1670070600-1670074200@theinclusivehive.org
SUMMARY:Disability Support Group
DESCRIPTION:Free with membership.
URL:https://theinclusivehive.org/event/disability-support-group-3/
LOCATION:Bayshore Baptist Church\, 3111 W. Morrison\, Tampa\, FL\, 33629\, United States
END:VEVENT
BEGIN:VEVENT
DTSTART;TZID=America/New_York:20221203T140000
DTEND;TZID=America/New_York:20221203T160000
DTSTAMP:20260423T060703
CREATED:20221024T170913Z
LAST-MODIFIED:20221130T013945Z
UID:1965-1670076000-1670083200@theinclusivehive.org
SUMMARY:Hive Christmas Party and Cookie Decorating
DESCRIPTION:Grab your Christmas sweater and come to Hive’s Christmas party. We will be decorating Christmas cookies\, playing games and listening to Christmas music! \nSign up here to to volunteer to bring an item for our party:  https://www.signupgenius.com/go/10C094FADA72DA6FAC07-tisthe
URL:https://theinclusivehive.org/event/hive-christmas-party-and-cookie-decorating/
LOCATION:Bayshore Baptist Church\, 3111 W. Morrison\, Tampa\, FL\, 33629\, United States
END:VEVENT
BEGIN:VEVENT
DTSTART;TZID=America/New_York:20221210T140000
DTEND;TZID=America/New_York:20221210T160000
DTSTAMP:20260423T060703
CREATED:20221024T171332Z
LAST-MODIFIED:20221209T231710Z
UID:1968-1670680800-1670688000@theinclusivehive.org
SUMMARY:Christmas Carols and Bingo at Habana Healthcare Center
DESCRIPTION:Join us as we sing Christmas carols and plan bingo with the residents of Habana Healthcare nursing home.
URL:https://theinclusivehive.org/event/christmas-carols-and-bingo-at-habana-healthcare-center/
LOCATION:Habana Health Care Center\, 2916 Habana Way\, Tampa\, FL\, 33614\, United States
END:VEVENT
BEGIN:VEVENT
DTSTART;TZID=America/New_York:20221214T190000
DTEND;TZID=America/New_York:20221214T200000
DTSTAMP:20260423T060703
CREATED:20221024T171654Z
LAST-MODIFIED:20221024T174523Z
UID:1972-1671044400-1671048000@theinclusivehive.org
SUMMARY:Sibling Support Group
DESCRIPTION:Sibling relationships are one of the most important and longest lasting relationships of our lives. Our siblings are our first friends and earliest sense of community. Those relationships are how we first learn to orient ourselves to our families and the world. \nJoin us as we share joys\, challenges\, and encouragement with other supportive siblings who really understand. \nTopic: Sibling Support Group Zoom Meeting\nTime: Dec 14\, 2022 07:00 PM Eastern Time (US and Canada) \nJoin Zoom Meeting\nhttps://zoom.us/j/7098055532?pwd=eUwxZ1ZHbE9jdXNHOXRpOFprLzZBZz09 \nMeeting ID: 709 805 5532\nPasscode: 746382
URL:https://theinclusivehive.org/event/sibling-support-group-3/
END:VEVENT
BEGIN:VEVENT
DTSTART;TZID=America/New_York:20221215T190000
DTEND;TZID=America/New_York:20221215T200000
DTSTAMP:20260423T060703
CREATED:20221024T171940Z
LAST-MODIFIED:20221024T174446Z
UID:1975-1671130800-1671134400@theinclusivehive.org
SUMMARY:Disability Support Group Zoom
DESCRIPTION:Disability Support Group.  Free with membership. \nTopic: Disability Support Group Zoom Meeting\nTime: Dec 15\, 2022 07:00 PM Eastern Time (US and Canada) \nJoin Zoom Meeting\nhttps://zoom.us/j/7098055532?pwd=eUwxZ1ZHbE9jdXNHOXRpOFprLzZBZz09 \nMeeting ID: 709 805 5532\nPasscode: 746382 \n  \n 
URL:https://theinclusivehive.org/event/disability-support-group-zoom/
END:VEVENT
END:VCALENDAR