BEGIN:VCALENDAR
VERSION:2.0
PRODID:-//The Hive Inclusive Community - ECPv6.15.20//NONSGML v1.0//EN
CALSCALE:GREGORIAN
METHOD:PUBLISH
X-ORIGINAL-URL:https://theinclusivehive.org
X-WR-CALDESC:Events for The Hive Inclusive Community
REFRESH-INTERVAL;VALUE=DURATION:PT1H
X-Robots-Tag:noindex
X-PUBLISHED-TTL:PT1H
BEGIN:VTIMEZONE
TZID:America/New_York
BEGIN:DAYLIGHT
TZOFFSETFROM:-0500
TZOFFSETTO:-0400
TZNAME:EDT
DTSTART:20210314T070000
END:DAYLIGHT
BEGIN:STANDARD
TZOFFSETFROM:-0400
TZOFFSETTO:-0500
TZNAME:EST
DTSTART:20211107T060000
END:STANDARD
BEGIN:DAYLIGHT
TZOFFSETFROM:-0500
TZOFFSETTO:-0400
TZNAME:EDT
DTSTART:20220313T070000
END:DAYLIGHT
BEGIN:STANDARD
TZOFFSETFROM:-0400
TZOFFSETTO:-0500
TZNAME:EST
DTSTART:20221106T060000
END:STANDARD
BEGIN:DAYLIGHT
TZOFFSETFROM:-0500
TZOFFSETTO:-0400
TZNAME:EDT
DTSTART:20230312T070000
END:DAYLIGHT
BEGIN:STANDARD
TZOFFSETFROM:-0400
TZOFFSETTO:-0500
TZNAME:EST
DTSTART:20231105T060000
END:STANDARD
END:VTIMEZONE
BEGIN:VEVENT
DTSTART;TZID=America/New_York:20221105T123000
DTEND;TZID=America/New_York:20221105T133000
DTSTAMP:20260423T073215
CREATED:20221024T162753Z
LAST-MODIFIED:20221024T162753Z
UID:1942-1667651400-1667655000@theinclusivehive.org
SUMMARY:Disability Support Group
DESCRIPTION:Disability Support Group
URL:https://theinclusivehive.org/event/disability-support-group-2/
LOCATION:Bayshore Baptist Church\, 3111 W. Morrison\, Tampa\, FL\, 33629\, United States
END:VEVENT
BEGIN:VEVENT
DTSTART;TZID=America/New_York:20221105T123000
DTEND;TZID=America/New_York:20221105T133000
DTSTAMP:20260423T073215
CREATED:20221024T163016Z
LAST-MODIFIED:20221024T163016Z
UID:1946-1667651400-1667655000@theinclusivehive.org
SUMMARY:Caregiver Support Group
DESCRIPTION:A licensed mental health specialist will be discussing mental health wellness for the Caregiver.
URL:https://theinclusivehive.org/event/caregiver-support-group-3/
LOCATION:Bayshore Baptist Church\, 3111 W. Morrison\, Tampa\, FL\, 33629\, United States
END:VEVENT
BEGIN:VEVENT
DTSTART;TZID=America/New_York:20221105T140000
DTEND;TZID=America/New_York:20221105T153000
DTSTAMP:20260423T073215
CREATED:20221024T161042Z
LAST-MODIFIED:20221024T172549Z
UID:1939-1667656800-1667662200@theinclusivehive.org
SUMMARY:Navigating Medicaid Waiver
DESCRIPTION:Christine Kramer\, CEO of Hope for Life caregiving agency and Courtney Gromling\, Waiver Support Coordinator will be discussing how to navigate the Medicaid Waiver process. Q&A session after presentation. Event free with Membership.
URL:https://theinclusivehive.org/event/navigating-medicaid-waiver/
LOCATION:Bayshore Baptist Church\, 3111 W. Morrison\, Tampa\, FL\, 33629\, United States
END:VEVENT
BEGIN:VEVENT
DTSTART;TZID=America/New_York:20221109T190000
DTEND;TZID=America/New_York:20221109T200000
DTSTAMP:20260423T073215
CREATED:20221024T164106Z
LAST-MODIFIED:20221024T164106Z
UID:1949-1668020400-1668024000@theinclusivehive.org
SUMMARY:Sibling Support Group via zoom
DESCRIPTION:Sibling relationships are one of the most important and longest lasting relationships of our lives. Our siblings are our first friends and earliest sense of community. Those relationships are how we first learn to orient ourselves to our families and the world. \nJoin us as we share joys\, challenges\, and encouragement with other supportive siblings who really understand. \n  \n  \nTopic: Hive Sibling Support Group Zoom Meeting\nTime: Nov 9\, 2022 07:00 PM Eastern Time (US and Canada) \nJoin Zoom Meeting\nhttps://zoom.us/j/7098055532?pwd=eUwxZ1ZHbE9jdXNHOXRpOFprLzZBZz09 \nMeeting ID: 709 805 5532\nPasscode: 746382 \n 
URL:https://theinclusivehive.org/event/sibling-support-group-via-zoom/
END:VEVENT
BEGIN:VEVENT
DTSTART;TZID=America/New_York:20221111T190000
DTEND;TZID=America/New_York:20221111T210000
DTSTAMP:20260423T073215
CREATED:20221024T165218Z
LAST-MODIFIED:20221024T165627Z
UID:1952-1668193200-1668200400@theinclusivehive.org
SUMMARY:Dance!!!!!
DESCRIPTION:In collaboration with F.R.I.E.N.D.S. Let’s get the party started!
URL:https://theinclusivehive.org/event/dance/
LOCATION:Hilton Garden Inn\, 4328 Garden Vista Dr.\, Riverview\, florida\, 33578
END:VEVENT
BEGIN:VEVENT
DTSTART;TZID=America/New_York:20221112T170000
DTEND;TZID=America/New_York:20221112T190000
DTSTAMP:20260423T073215
CREATED:20221025T155613Z
LAST-MODIFIED:20221104T000343Z
UID:1980-1668272400-1668279600@theinclusivehive.org
SUMMARY:Friendsgiving Feast
DESCRIPTION:We are so THANKFUL for our friends and community. Join us for a Friendsgiving Feast to celebrate the season!!! This is a potluck dinner (or pick up from the supermarket if that’s how you roll… no judgement\, we love all food).  A sign up link will be provided for those who RSVP. \nPlease sign up for side dishes using the Sign Up Genius Link below. It is going to be a Feast! \nhttps://www.signupgenius.com/go/10C094FADA72DA6FAC07-friendsgiving
URL:https://theinclusivehive.org/event/friendsgiving-feast/
LOCATION:Bayshore Baptist Church\, 3111 W. Morrison\, Tampa\, FL\, 33629\, United States
END:VEVENT
BEGIN:VEVENT
DTSTART;TZID=America/New_York:20221117T190000
DTEND;TZID=America/New_York:20221117T200000
DTSTAMP:20260423T073215
CREATED:20221024T170353Z
LAST-MODIFIED:20221024T172327Z
UID:1956-1668711600-1668715200@theinclusivehive.org
SUMMARY:Disability Support Group via Zoom
DESCRIPTION:We are creating a support group via zoom! We will meet online once a month. \nTopic: Disability Support Group Zoom Meeting\nTime: Nov 17\, 2022 07:00 PM Eastern Time (US and Canada) \nJoin Zoom Meeting\nhttps://zoom.us/j/7098055532?pwd=eUwxZ1ZHbE9jdXNHOXRpOFprLzZBZz09 \nMeeting ID: 709 805 5532\nPasscode: 746382 \n 
URL:https://theinclusivehive.org/event/disability-support-group-via-zoom/
END:VEVENT
END:VCALENDAR