BEGIN:VCALENDAR
VERSION:2.0
PRODID:-//The Hive Inclusive Community - ECPv6.15.20//NONSGML v1.0//EN
CALSCALE:GREGORIAN
METHOD:PUBLISH
X-WR-CALNAME:The Hive Inclusive Community
X-ORIGINAL-URL:https://theinclusivehive.org
X-WR-CALDESC:Events for The Hive Inclusive Community
REFRESH-INTERVAL;VALUE=DURATION:PT1H
X-Robots-Tag:noindex
X-PUBLISHED-TTL:PT1H
BEGIN:VTIMEZONE
TZID:America/New_York
BEGIN:DAYLIGHT
TZOFFSETFROM:-0500
TZOFFSETTO:-0400
TZNAME:EDT
DTSTART:20210314T070000
END:DAYLIGHT
BEGIN:STANDARD
TZOFFSETFROM:-0400
TZOFFSETTO:-0500
TZNAME:EST
DTSTART:20211107T060000
END:STANDARD
BEGIN:DAYLIGHT
TZOFFSETFROM:-0500
TZOFFSETTO:-0400
TZNAME:EDT
DTSTART:20220313T070000
END:DAYLIGHT
BEGIN:STANDARD
TZOFFSETFROM:-0400
TZOFFSETTO:-0500
TZNAME:EST
DTSTART:20221106T060000
END:STANDARD
BEGIN:DAYLIGHT
TZOFFSETFROM:-0500
TZOFFSETTO:-0400
TZNAME:EDT
DTSTART:20230312T070000
END:DAYLIGHT
BEGIN:STANDARD
TZOFFSETFROM:-0400
TZOFFSETTO:-0500
TZNAME:EST
DTSTART:20231105T060000
END:STANDARD
END:VTIMEZONE
BEGIN:VEVENT
DTSTART;TZID=America/New_York:20221008T123000
DTEND;TZID=America/New_York:20221008T133000
DTSTAMP:20260423T085950
CREATED:20221001T224120Z
LAST-MODIFIED:20221001T224120Z
UID:1723-1665232200-1665235800@theinclusivehive.org
SUMMARY:Disability Support Group
DESCRIPTION:Support Groups are a unique kind of therapy where a group of people who are likely experiencing similar challenges get together to share their personal experiences and coping strategies. As a result they give and at the same time\, receive help from each other. Life is easier together and you are not alone.
URL:https://theinclusivehive.org/event/disability-support-group/
LOCATION:Bayshore Baptist Church\, 3111 W. Morrison\, Tampa\, FL\, 33629\, United States
END:VEVENT
BEGIN:VEVENT
DTSTART;TZID=America/New_York:20221008T123000
DTEND;TZID=America/New_York:20221008T133000
DTSTAMP:20260423T085950
CREATED:20221001T224301Z
LAST-MODIFIED:20221001T224301Z
UID:1726-1665232200-1665235800@theinclusivehive.org
SUMMARY:Caregiver Support Group
DESCRIPTION:Support Groups are a unique kind of therapy where a group of people who are likely experiencing similar challenges get together to share their personal experiences and coping strategies. As a result they give and at the same time\, receive help from each other. Life is easier together and you are not alone.
URL:https://theinclusivehive.org/event/caregiver-support-group-2/
LOCATION:Bayshore Baptist Church\, 3111 W. Morrison\, Tampa\, FL\, 33629\, United States
END:VEVENT
BEGIN:VEVENT
DTSTART;TZID=America/New_York:20221008T140000
DTEND;TZID=America/New_York:20221008T160000
DTSTAMP:20260423T085950
CREATED:20221001T223509Z
LAST-MODIFIED:20221001T223509Z
UID:1719-1665237600-1665244800@theinclusivehive.org
SUMMARY:Marvel VS. DC Comic Costume Party
DESCRIPTION:Are you Team DC comic or Marvel? Dress up like your favorite super hero for The Hive’s Costume Party! Prizes for best costume!
URL:https://theinclusivehive.org/event/marvel-vs-dc-comic-costume-party/
LOCATION:Bayshore Baptist Church\, 3111 W. Morrison\, Tampa\, FL\, 33629\, United States
END:VEVENT
BEGIN:VEVENT
DTSTART;TZID=America/New_York:20221013T190000
DTEND;TZID=America/New_York:20221013T203000
DTSTAMP:20260423T085950
CREATED:20220925T203551Z
LAST-MODIFIED:20220925T203628Z
UID:1714-1665687600-1665693000@theinclusivehive.org
SUMMARY:Sibling Support Group
DESCRIPTION:Will be held the second Thursday of the month at 7 PM via Zoom. \nTonya Whitlock is inviting you to a scheduled Zoom meeting. \nTopic: The Hive Inclusive Community Sibling Zoom Meeting\nTime: Oct 13\, 2022 07:00 PM Eastern Time (US and Canada) \nJoin Zoom Meeting\nhttps://zoom.us/j/7098055532?pwd=eUwxZ1ZHbE9jdXNHOXRpOFprLzZBZz09 \nMeeting ID: 709 805 5532\nPasscode: 746382\nOne tap mobile\n+16469313860\,\,7098055532#\,\,\,\,*746382# US\n+19292056099\,\,7098055532#\,\,\,\,*746382# US (New York) \nDial by your location\n+1 646 931 3860 US\n+1 929 205 6099 US (New York)\n+1 301 715 8592 US (Washington DC)\n+1 309 205 3325 US\n+1 312 626 6799 US (Chicago)\n+1 719 359 4580 US\n+1 253 215 8782 US (Tacoma)\n+1 346 248 7799 US (Houston)\n+1 386 347 5053 US\n+1 564 217 2000 US\n+1 669 444 9171 US\n+1 669 900 6833 US (San Jose)\nMeeting ID: 709 805 5532\nPasscode: 746382\nFind your local number: https://zoom.us/u/adMSbJVmD \n 
URL:https://theinclusivehive.org/event/sibling-support-group-2/
END:VEVENT
BEGIN:VEVENT
DTSTART;TZID=America/New_York:20221022T100000
DTEND;TZID=America/New_York:20221022T140000
DTSTAMP:20260423T085950
CREATED:20221001T225133Z
LAST-MODIFIED:20221001T225133Z
UID:1729-1666432800-1666447200@theinclusivehive.org
SUMMARY:Hive Team walking with F.R.I.E.N.D.S
DESCRIPTION:The Hive Inclusive Community has formed a team to walk in the FRIENDS – Down Syndrome & Special Needs West Florida walk. This would be a great event for the whole family. Sign up to walk with us! https://www.ds-stride.org/friendsbu…/profiles/team/TheHive \nDATE: October 22\, 2022\, Saturday   TIME: 10am-2pm \nLOCATION: AL Lopez Park – 4810 N Himes Ave\, Tampa\, FL 33614\, A 1.2mile path\, Playgrounds\, &\, Nature Trail. \nYOU ARE INVITED! F.R.I.E.N.D.S. 6th BUDDY WALK is open to all Down syndrome & Special needs individuals\, their families\, & friends\, teachers\, professionals\, & the public. \nDON’T FORGET TO BRING – Tents\, Chairs\, Sunscreen\, you may bring food (NO alcohol allowed)\, and don’t forget to bring Cash for food\, Bake Sale treats\, & Raffle tickets!
URL:https://theinclusivehive.org/event/hive-team-walking-with-f-r-i-e-n-d-s/
LOCATION:al lopez park\, 4810 N Himes Ave\, Tampa\, 33614\, United States
END:VEVENT
END:VCALENDAR