BEGIN:VCALENDAR
VERSION:2.0
PRODID:-//The Hive Inclusive Community - ECPv6.15.20//NONSGML v1.0//EN
CALSCALE:GREGORIAN
METHOD:PUBLISH
X-WR-CALNAME:The Hive Inclusive Community
X-ORIGINAL-URL:https://theinclusivehive.org
X-WR-CALDESC:Events for The Hive Inclusive Community
REFRESH-INTERVAL;VALUE=DURATION:PT1H
X-Robots-Tag:noindex
X-PUBLISHED-TTL:PT1H
BEGIN:VTIMEZONE
TZID:America/New_York
BEGIN:DAYLIGHT
TZOFFSETFROM:-0500
TZOFFSETTO:-0400
TZNAME:EDT
DTSTART:20250309T070000
END:DAYLIGHT
BEGIN:STANDARD
TZOFFSETFROM:-0400
TZOFFSETTO:-0500
TZNAME:EST
DTSTART:20251102T060000
END:STANDARD
BEGIN:DAYLIGHT
TZOFFSETFROM:-0500
TZOFFSETTO:-0400
TZNAME:EDT
DTSTART:20260308T070000
END:DAYLIGHT
BEGIN:STANDARD
TZOFFSETFROM:-0400
TZOFFSETTO:-0500
TZNAME:EST
DTSTART:20261101T060000
END:STANDARD
BEGIN:DAYLIGHT
TZOFFSETFROM:-0500
TZOFFSETTO:-0400
TZNAME:EDT
DTSTART:20270314T070000
END:DAYLIGHT
BEGIN:STANDARD
TZOFFSETFROM:-0400
TZOFFSETTO:-0500
TZNAME:EST
DTSTART:20271107T060000
END:STANDARD
END:VTIMEZONE
BEGIN:VEVENT
DTSTART;TZID=America/New_York:20260111T150000
DTEND;TZID=America/New_York:20260111T170000
DTSTAMP:20260421T184925
CREATED:20260106T011235Z
LAST-MODIFIED:20260108T191048Z
UID:7263-1768143600-1768150800@theinclusivehive.org
SUMMARY:Pirate Party
DESCRIPTION:Begin the Gasparilla season with our Pirate Party. Wear your best pirate custom and join us.
URL:https://theinclusivehive.org/event/pirate-party/
LOCATION:Pirate House\, 2513 Cumberland Cliff Drive\, Ruskin\, FL\, 33570\, United States
CATEGORIES:Social Event
ATTACH;FMTTYPE=image/jpeg:https://theinclusivehive.org/wp-content/uploads/2025/12/1290470210077506720.jpg
END:VEVENT
BEGIN:VEVENT
DTSTART;TZID=America/New_York:20260120T190000
DTEND;TZID=America/New_York:20260120T200000
DTSTAMP:20260421T184925
CREATED:20260106T172612Z
LAST-MODIFIED:20260106T172928Z
UID:7281-1768935600-1768939200@theinclusivehive.org
SUMMARY:BEE Heard Initiative Advocacy Group on Zoom
DESCRIPTION:Join our Disability Advocacy Group for a discussion on how to have your voices heard.
URL:https://theinclusivehive.org/event/bee-heard-initiative-advocacy-group-on-zoom/
LOCATION:Zoom
END:VEVENT
BEGIN:VEVENT
DTSTART;TZID=America/New_York:20260127T190000
DTEND;TZID=America/New_York:20260127T203000
DTSTAMP:20260421T184925
CREATED:20260106T185038Z
LAST-MODIFIED:20260106T185038Z
UID:7289-1769540400-1769545800@theinclusivehive.org
SUMMARY:Caregiver BEE Group
DESCRIPTION:Join is for some awesome Mexican food at Rocco’s Tacos. \nPlease RSVP by Thursday\, January 22nd so that may may a reservation with the restaurant. \n 
URL:https://theinclusivehive.org/event/caregiver-bee-group/
LOCATION:Rocco’s Tacos\, Bay Street\, International Mall\, Tampa\, FL\, United States
END:VEVENT
BEGIN:VEVENT
DTSTART;TZID=America/New_York:20260208T150000
DTEND;TZID=America/New_York:20260208T173000
DTSTAMP:20260421T184925
CREATED:20260106T185508Z
LAST-MODIFIED:20260106T185508Z
UID:7299-1770562800-1770571800@theinclusivehive.org
SUMMARY:Run For Your Honey Practice
DESCRIPTION:Lace up your sneakers and join us for a practice run/walk/roll/stroll at Rolette Park. \nThis is a practice before the actual event. Encourage your teams to come on out for a fun afternoon. \n 
URL:https://theinclusivehive.org/event/run-for-your-honey-practice/
LOCATION:Rowlett Park\, 2401 E Yukon St\, Tampa\, FL\, 33604\, United States
END:VEVENT
BEGIN:VEVENT
DTSTART;TZID=America/New_York:20260217T190000
DTEND;TZID=America/New_York:20260217T200000
DTSTAMP:20260421T184925
CREATED:20260213T023130Z
LAST-MODIFIED:20260213T023452Z
UID:7519-1771354800-1771358400@theinclusivehive.org
SUMMARY:B.E.E. Disability Advocacy Panel
DESCRIPTION:This month’s topic: coffee and coco vision board night via zoom. \nJoin Zoom Meeting\nhttps://zoom.us/j/7098055532?pwd=eUwxZ1ZHbE9jdXNHOXRpOFprLzZBZz09&omn=96184433155 \nMeeting ID: 709 805 5532\nPasscode: 746382 \n 
URL:https://theinclusivehive.org/event/b-e-e-disability-advocacy-panel/
LOCATION:FL
END:VEVENT
BEGIN:VEVENT
DTSTART;TZID=America/New_York:20260222T150000
DTEND;TZID=America/New_York:20260222T170000
DTSTAMP:20260421T184925
CREATED:20260128T203731Z
LAST-MODIFIED:20260206T191811Z
UID:7424-1771772400-1771779600@theinclusivehive.org
SUMMARY:Creative Art Class:  Finding the Light Through Sun-Prints
DESCRIPTION:At The Hive\, we believe that every individual carries a unique beauty that the world needs to see. This month\, our creative arts class for adults with disabilities stepped into the Florida sunshine to explore the “glorious entanglement” of art and science through the magic of Cyanotypes (Sun-Prints). \n  \n 
URL:https://theinclusivehive.org/event/art-gardening/
LOCATION:Country Lake Park\, 15728 Country Lake Dr\, Tampa\, 33624\, United States
CATEGORIES:Classes
ATTACH;FMTTYPE=image/png:https://theinclusivehive.org/wp-content/uploads/2026/01/2026-February-Art-Class.png
END:VEVENT
BEGIN:VEVENT
DTSTART;TZID=America/New_York:20260224T190000
DTEND;TZID=America/New_York:20260224T203000
DTSTAMP:20260421T184925
CREATED:20260128T202916Z
LAST-MODIFIED:20260217T191431Z
UID:7417-1771959600-1771965000@theinclusivehive.org
SUMMARY:B.E.E. Caregivers
DESCRIPTION:Join us this month at ulele. \nReservations are highly recommended so please RSVP by Thursday\, February 19th. \nPlease bring your ticket so we may scan it.
URL:https://theinclusivehive.org/event/b-e-e-caregivers-4/
LOCATION:ulele\, 1810 North Highland Avenue\, Tampa\, FL\, 33602\, United States
CATEGORIES:In Person Support Group,Social Event
ATTACH;FMTTYPE=image/jpeg:https://theinclusivehive.org/wp-content/uploads/2026/01/2026-February-Caregivers-1.jpg
END:VEVENT
BEGIN:VEVENT
DTSTART;TZID=America/New_York:20260228T070000
DTEND;TZID=America/New_York:20260228T120000
DTSTAMP:20260421T184925
CREATED:20260106T190743Z
LAST-MODIFIED:20260123T212214Z
UID:7308-1772262000-1772280000@theinclusivehive.org
SUMMARY:Run For Your Honey 5K and Fun Run
DESCRIPTION:The big event day is here. Bring your teams for a fun-filled morning of running\, walking\, rolling or strolling along the path at Rowlett Park. Help The Hive Community in its’ efforts to build an affordable community. See you at the park!\nHave you signed up to participate? Register here.\n 
URL:https://theinclusivehive.org/event/run-for-your-honey-5k-and-fun-run/
LOCATION:Rowlett Park\, 2401 E Yukon St\, Tampa\, FL\, 33604\, United States
END:VEVENT
BEGIN:VEVENT
DTSTART;TZID=America/New_York:20260308T150000
DTEND;TZID=America/New_York:20260308T170000
DTSTAMP:20260421T184925
CREATED:20260301T214003Z
LAST-MODIFIED:20260301T214003Z
UID:7536-1772982000-1772989200@theinclusivehive.org
SUMMARY:Mindfulness Retreat for Caregivers
DESCRIPTION:We are switching things up a bit. Instead of B.E.E. Caregiver’s restaurant night\, we are having a Mindfulness Retreat for all you.  This will be a soothing\, relaxing afternoon of self reflection!  Come pamper yourself in some guilt free “me” time!\n\nDate:    March 8\, 2026\nTime:    3:00pm – 5:00pm\nWhere:  The George Residence\n               8803 Stillwaters Landing Dr.\n               Riverhills\, FL  33578\nCost:       $25.00\nInstructor:  Tyreen Taylor\n\nThis event will cost $25. Please bring the money with you. There are only 20 spots available\, so don’t wait!
URL:https://theinclusivehive.org/event/mindfulness-retreat-for-caregivers/
LOCATION:The George Residence\, 8803 Stillwaters Landing Dr.\, Riverhills\, FL\, 33578\, United States
ATTACH;FMTTYPE=image/jpeg:https://theinclusivehive.org/wp-content/uploads/2026/03/2026-March-Caregiver-Retreat.jpg
END:VEVENT
BEGIN:VEVENT
DTSTART;TZID=America/New_York:20260315T140000
DTEND;TZID=America/New_York:20260315T180000
DTSTAMP:20260421T184925
CREATED:20260301T214201Z
LAST-MODIFIED:20260302T013353Z
UID:7545-1773583200-1773597600@theinclusivehive.org
SUMMARY:March Movie Day
DESCRIPTION:Movie day is Sunday\, 3/15/2026!  Here is a list of movies and locations to choose from.  Please submit your vote no later than March 10th by emailing Beth@theinclusivehive.com\n\nReminders of Him (PG13)\n     CineBistro Hyde Park – 3:00pm\n     Riverview 14 – 4:15pm\n     West Shore 14 – 4:10pm\n\nScream 7 (R)\n     Veterans 24 – 4:30pm\n\nThe Bride (R)\n      Regency 20 – 3:50pm **\n      West Shore 14 – 4:15pm\n      Veterans 24 – 4:00pm\n      Highwoods 20 – 3:55pm **\n\nHoppers (PG)\n      West Shore – 3:45pm **\n      Veterans 24 – 1:50pm **\n\n\n** Discounted Tickets – 20%\n\nOnce votes are tallied\, an email will go out to all with the restaurant selection for the meet up afterwards!
URL:https://theinclusivehive.org/event/march-movie-day-2/
LOCATION:FL
END:VEVENT
BEGIN:VEVENT
DTSTART;TZID=America/New_York:20260317T190000
DTEND;TZID=America/New_York:20260317T210000
DTSTAMP:20260421T184925
CREATED:20260303T235236Z
LAST-MODIFIED:20260304T195843Z
UID:7559-1773774000-1773781200@theinclusivehive.org
SUMMARY:March Disability Advocacy Group
DESCRIPTION:This month we are enjoying a movie at CineBistro in Hyde Park. \nSchedule isn’t out yet so we will decide on a movie the week before. \n  \nIf the movie starts at 7:30 pm\, let’s meet at 7:00 pm.
URL:https://theinclusivehive.org/event/march-disability-advocacy-group/
LOCATION:CMX CineBistro Hyde Park\, 1609 W Swann Ave\, Tampa\, FL\, 33606\, United States
CATEGORIES:Online Support Group
END:VEVENT
BEGIN:VEVENT
DTSTART;TZID=America/New_York:20260415T150000
DTEND;TZID=America/New_York:20260415T170000
DTSTAMP:20260421T184925
CREATED:20260216T214228Z
LAST-MODIFIED:20260408T191450Z
UID:7524-1776265200-1776272400@theinclusivehive.org
SUMMARY:Just a test - no real event
DESCRIPTION:Ticket set up test
URL:https://theinclusivehive.org/event/just-a-test-no-real-event/
LOCATION:FL
END:VEVENT
BEGIN:VEVENT
DTSTART;TZID=America/New_York:20260419T130000
DTEND;TZID=America/New_York:20260419T170000
DTSTAMP:20260421T184925
CREATED:20260401T130135Z
LAST-MODIFIED:20260401T132700Z
UID:7652-1776603600-1776618000@theinclusivehive.org
SUMMARY:Visit The Florida Aquarium
DESCRIPTION:Join us at the Florida Aquarium to explore sea creatures. \nThis event is for Members Only! \nWe are working on the details so please check back.
URL:https://theinclusivehive.org/event/visit-the-florida-aquarium/
LOCATION:Florida Aquarium\, 701 Channelside Dr\, Tampa\, FL\, 33602\, United States
END:VEVENT
BEGIN:VEVENT
DTSTART;TZID=America/New_York:20260421T200000
DTEND;TZID=America/New_York:20260421T210000
DTSTAMP:20260421T184925
CREATED:20260401T125556Z
LAST-MODIFIED:20260401T151504Z
UID:7644-1776801600-1776805200@theinclusivehive.org
SUMMARY:B.E.E. Disability Advocacy Panel
DESCRIPTION:This month we will meet on Zoom and test your trivia knowledge. \nBring a guest to the zoom to be entered Into a drawing to win an Amazon gift card. \n 
URL:https://theinclusivehive.org/event/b-e-e-disability-advocacy-panel-2/
LOCATION:FL
CATEGORIES:Online Support Group,Social Event
ATTACH;FMTTYPE=image/jpeg:https://theinclusivehive.org/wp-content/uploads/2026/04/2026-April-Disability-Group-1.jpg
END:VEVENT
BEGIN:VEVENT
DTSTART;TZID=America/New_York:20260428T190000
DTEND;TZID=America/New_York:20260428T203000
DTSTAMP:20260421T184925
CREATED:20260401T125742Z
LAST-MODIFIED:20260401T125742Z
UID:7648-1777402800-1777408200@theinclusivehive.org
SUMMARY:B.E.E. Caregivers
DESCRIPTION:Join us this month at Ulele’s for a fun filled evening.
URL:https://theinclusivehive.org/event/b-e-e-caregivers-5/
LOCATION:ulele\, 1810 North Highland Avenue\, Tampa\, FL\, 33602\, United States
ATTACH;FMTTYPE=image/jpeg:https://theinclusivehive.org/wp-content/uploads/2026/04/2026-April-Caregivers.jpg
END:VEVENT
BEGIN:VEVENT
DTSTART;TZID=America/New_York:20260502T090000
DTEND;TZID=America/New_York:20260502T110000
DTSTAMP:20260421T184925
CREATED:20260401T133608Z
LAST-MODIFIED:20260401T133608Z
UID:7659-1777712400-1777719600@theinclusivehive.org
SUMMARY:Gardening with TGH
DESCRIPTION:We will be exploring TGH’s garden and spending time in their kitchen for a guided kitchen class. \n  \n 
URL:https://theinclusivehive.org/event/gardening-with-tgh/
LOCATION:TGH Family Care Center Healthpark\, 5802 N. 30th St\, Tampa\, FL\, 33610\, United States
END:VEVENT
BEGIN:VEVENT
DTSTART;TZID=America/New_York:20260519T190000
DTEND;TZID=America/New_York:20260519T200000
DTSTAMP:20260421T184925
CREATED:20260401T133955Z
LAST-MODIFIED:20260401T134009Z
UID:7666-1779217200-1779220800@theinclusivehive.org
SUMMARY:B.E.E. Disability Advocacy Panel
DESCRIPTION:TBD
URL:https://theinclusivehive.org/event/b-e-e-disability-advocacy-panel-3/
LOCATION:FL
END:VEVENT
BEGIN:VEVENT
DTSTART;TZID=America/New_York:20260526T190000
DTEND;TZID=America/New_York:20260526T203000
DTSTAMP:20260421T184925
CREATED:20260401T134121Z
LAST-MODIFIED:20260401T134121Z
UID:7671-1779822000-1779827400@theinclusivehive.org
SUMMARY:B.E.E. Caregivers
DESCRIPTION:TBD
URL:https://theinclusivehive.org/event/b-e-e-caregivers-6/
LOCATION:FL
END:VEVENT
BEGIN:VEVENT
DTSTART;TZID=America/New_York:20260616T190000
DTEND;TZID=America/New_York:20260616T200000
DTSTAMP:20260421T184925
CREATED:20260401T134040Z
LAST-MODIFIED:20260401T134040Z
UID:7669-1781636400-1781640000@theinclusivehive.org
SUMMARY:B.E.E. Disability Advocacy Panel
DESCRIPTION:TBD
URL:https://theinclusivehive.org/event/b-e-e-disability-advocacy-panel-4/
LOCATION:FL
END:VEVENT
BEGIN:VEVENT
DTSTART;TZID=America/New_York:20260623T190000
DTEND;TZID=America/New_York:20260623T203000
DTSTAMP:20260421T184925
CREATED:20260401T134149Z
LAST-MODIFIED:20260401T151341Z
UID:7673-1782241200-1782246600@theinclusivehive.org
SUMMARY:B.E.E. Caregivers
DESCRIPTION:TBD
URL:https://theinclusivehive.org/event/b-e-e-caregivers-7/
LOCATION:FL
END:VEVENT
BEGIN:VEVENT
DTSTART;TZID=America/New_York:20260627T180000
DTEND;TZID=America/New_York:20260627T210000
DTSTAMP:20260421T184925
CREATED:20260401T133836Z
LAST-MODIFIED:20260411T194126Z
UID:7664-1782583200-1782594000@theinclusivehive.org
SUMMARY:The Beauty of Inclusion Fashion Show 2026
DESCRIPTION:We will be hosting our fourth Fashion Show at Portico Cafe. \n6:00 PM VIP guests arrive \n6:45 PM Doors open for General Admission \n7:00 The Show begins
URL:https://theinclusivehive.org/event/the-beauty-of-inclusion-fashion-show-2026/
LOCATION:Portico Cafe\, 1001 N. Florida Ave\, Tampa\, FL\, 33602\, United States
END:VEVENT
END:VCALENDAR