BEGIN:VCALENDAR
VERSION:2.0
PRODID:-//The Hive Inclusive Community - ECPv6.15.20//NONSGML v1.0//EN
CALSCALE:GREGORIAN
METHOD:PUBLISH
X-ORIGINAL-URL:https://theinclusivehive.org
X-WR-CALDESC:Events for The Hive Inclusive Community
REFRESH-INTERVAL;VALUE=DURATION:PT1H
X-Robots-Tag:noindex
X-PUBLISHED-TTL:PT1H
BEGIN:VTIMEZONE
TZID:America/New_York
BEGIN:DAYLIGHT
TZOFFSETFROM:-0500
TZOFFSETTO:-0400
TZNAME:EDT
DTSTART:20230312T070000
END:DAYLIGHT
BEGIN:STANDARD
TZOFFSETFROM:-0400
TZOFFSETTO:-0500
TZNAME:EST
DTSTART:20231105T060000
END:STANDARD
BEGIN:DAYLIGHT
TZOFFSETFROM:-0500
TZOFFSETTO:-0400
TZNAME:EDT
DTSTART:20240310T070000
END:DAYLIGHT
BEGIN:STANDARD
TZOFFSETFROM:-0400
TZOFFSETTO:-0500
TZNAME:EST
DTSTART:20241103T060000
END:STANDARD
BEGIN:DAYLIGHT
TZOFFSETFROM:-0500
TZOFFSETTO:-0400
TZNAME:EDT
DTSTART:20250309T070000
END:DAYLIGHT
BEGIN:STANDARD
TZOFFSETFROM:-0400
TZOFFSETTO:-0500
TZNAME:EST
DTSTART:20251102T060000
END:STANDARD
BEGIN:DAYLIGHT
TZOFFSETFROM:-0500
TZOFFSETTO:-0400
TZNAME:EDT
DTSTART:20260308T070000
END:DAYLIGHT
BEGIN:STANDARD
TZOFFSETFROM:-0400
TZOFFSETTO:-0500
TZNAME:EST
DTSTART:20261101T060000
END:STANDARD
BEGIN:DAYLIGHT
TZOFFSETFROM:-0500
TZOFFSETTO:-0400
TZNAME:EDT
DTSTART:20270314T070000
END:DAYLIGHT
BEGIN:STANDARD
TZOFFSETFROM:-0400
TZOFFSETTO:-0500
TZNAME:EST
DTSTART:20271107T060000
END:STANDARD
END:VTIMEZONE
BEGIN:VEVENT
DTSTART;TZID=America/New_York:20241119T190000
DTEND;TZID=America/New_York:20241119T200000
DTSTAMP:20260423T130431
CREATED:20241106T010549Z
LAST-MODIFIED:20241114T214733Z
UID:5934-1732042800-1732046400@theinclusivehive.org
SUMMARY:Hive Community Event - Pumpkin Pie from Scratch
DESCRIPTION:Join us on Zoom and learn to make pumpkin pie from scratch. \nOnce you sign up\, you will receive an ingredients list so you can join in the fun. \nZoom information \nhttps://zoom.us/j/7098055532?pwd=eUwxZ1ZHbE9jdXNHOXRpOFprLzZBZz09&omn=96184433155\n\nMeeting ID: 709 805 5532\nPasscode: 746382
URL:https://theinclusivehive.org/event/caregiver-b-e-e-group-pumpkin-pie-from-scratch/
LOCATION:FL
CATEGORIES:Classes,Social Event
ATTACH;FMTTYPE=image/jpeg:https://theinclusivehive.org/wp-content/uploads/2024/11/image000000_20241105_195710.jpg
END:VEVENT
BEGIN:VEVENT
DTSTART;TZID=America/New_York:20241207T110000
DTEND;TZID=America/New_York:20241207T150000
DTSTAMP:20260423T130431
CREATED:20241101T134222Z
LAST-MODIFIED:20241101T134222Z
UID:5890-1733569200-1733583600@theinclusivehive.org
SUMMARY:Joy to the World! Christmas Festival
DESCRIPTION:Plan to come to “Joy to the World” Christmas Festival. \nActivities include crafts\, games\, food trucks\, prizes and more.
URL:https://theinclusivehive.org/event/joy-to-the-world-christmas-festival/
LOCATION:Destiny Church\, 711 N. Parsons Ave\, Brandon\, FL\, 33510\, United States
CATEGORIES:Social Event
ATTACH;FMTTYPE=image/jpeg:https://theinclusivehive.org/wp-content/uploads/2024/11/2024-November-Joy-to-the-World.jpg
END:VEVENT
BEGIN:VEVENT
DTSTART;TZID=America/New_York:20241222T143000
DTEND;TZID=America/New_York:20241222T180000
DTSTAMP:20260423T130431
CREATED:20241205T192644Z
LAST-MODIFIED:20241205T192644Z
UID:6035-1734877800-1734890400@theinclusivehive.org
SUMMARY:Movie Day - Mufasa
DESCRIPTION:Join us at AMC West Shore 14 Theater for the movie Mufasa. \nWe will meet at 2:30 PM to grab our treats.  The movie starts at 3:00 PM. \n***  Please Pre-Purchase tickets. This weekend is the opening weekend for the movie and tickets will go quickly. ***
URL:https://theinclusivehive.org/event/movie-day-mufasa/
LOCATION:AMC West Shore 14 Movie Theater\, 210 Westshore Plaza\, Tampa\, 33609\, United States
CATEGORIES:Social Event
ATTACH;FMTTYPE=image/jpeg:https://theinclusivehive.org/wp-content/uploads/2024/12/2024-December-Movie-Day.jpg
END:VEVENT
BEGIN:VEVENT
DTSTART;TZID=America/New_York:20251116T140000
DTEND;TZID=America/New_York:20251116T160000
DTSTAMP:20260423T130431
CREATED:20251028T124103Z
LAST-MODIFIED:20251030T152241Z
UID:6943-1763301600-1763308800@theinclusivehive.org
SUMMARY:Etiquette Tea Class with Queen Katrina
DESCRIPTION:Join The Hive for an etiquette class & high tea taught by The Queen of Etiquette\, Mrs. Florida Classic Universe Katrina Spagnoletti. \nThe class will be held at 32022 Garden Alcove Loop in Wesley Chapel\, Gate Code: #0240.
URL:https://theinclusivehive.org/event/etiquette-tea-class-with-queen-katrina/
LOCATION:Etiquette Tea Class\, 32022 Garden Alcove Loop\, Wesley Chapel\, FL\, 33545\, United States
CATEGORIES:Classes,Social Event
END:VEVENT
BEGIN:VEVENT
DTSTART;TZID=America/New_York:20251118T190000
DTEND;TZID=America/New_York:20251118T203000
DTSTAMP:20260423T130431
CREATED:20251107T023519Z
LAST-MODIFIED:20251107T025237Z
UID:7076-1763492400-1763497800@theinclusivehive.org
SUMMARY:B.E.E. Caregivers
DESCRIPTION:Join your fellow Caregivers for dinner at Wagamama \n7:00 pm at 1050 Water St\, Tampa\, FL. \nWagamama validates parking for up to 3 hours free at the Cumberland Garage. \nReservations are highly recommended so please RSVP.
URL:https://theinclusivehive.org/event/b-e-e-caregivers-3/
LOCATION:Cumberland Garage\, 1045 E Cumberland Ave\, Tampa\, FL\, Tampa\, FL\, 33602\, United States
CATEGORIES:In Person Support Group,Social Event
END:VEVENT
BEGIN:VEVENT
DTSTART;TZID=America/New_York:20251206T110000
DTEND;TZID=America/New_York:20251206T150000
DTSTAMP:20260423T130431
CREATED:20251107T025722Z
LAST-MODIFIED:20251107T025722Z
UID:7086-1765018800-1765033200@theinclusivehive.org
SUMMARY:Hidden Treasures Ministries Christmas Festival
DESCRIPTION:We will be volunteering and enjoying the day supporting Hidden Treasures Ministries at their Christmas Festival. \nThere will be crafts\, music\, snacks and lunch for purchase. Come join the fun.
URL:https://theinclusivehive.org/event/hidden-treasures-ministries-christmas-festival/
LOCATION:Destiny Church\, 711 N. Parsons Ave\, Brandon\, FL\, 33510\, United States
CATEGORIES:Social Event
END:VEVENT
BEGIN:VEVENT
DTSTART;TZID=America/New_York:20260111T150000
DTEND;TZID=America/New_York:20260111T170000
DTSTAMP:20260423T130431
CREATED:20260106T011235Z
LAST-MODIFIED:20260108T191048Z
UID:7263-1768143600-1768150800@theinclusivehive.org
SUMMARY:Pirate Party
DESCRIPTION:Begin the Gasparilla season with our Pirate Party. Wear your best pirate custom and join us.
URL:https://theinclusivehive.org/event/pirate-party/
LOCATION:Pirate House\, 2513 Cumberland Cliff Drive\, Ruskin\, FL\, 33570\, United States
CATEGORIES:Social Event
ATTACH;FMTTYPE=image/jpeg:https://theinclusivehive.org/wp-content/uploads/2025/12/1290470210077506720.jpg
END:VEVENT
BEGIN:VEVENT
DTSTART;TZID=America/New_York:20260224T190000
DTEND;TZID=America/New_York:20260224T203000
DTSTAMP:20260423T130431
CREATED:20260128T202916Z
LAST-MODIFIED:20260217T191431Z
UID:7417-1771959600-1771965000@theinclusivehive.org
SUMMARY:B.E.E. Caregivers
DESCRIPTION:Join us this month at ulele. \nReservations are highly recommended so please RSVP by Thursday\, February 19th. \nPlease bring your ticket so we may scan it.
URL:https://theinclusivehive.org/event/b-e-e-caregivers-4/
LOCATION:ulele\, 1810 North Highland Avenue\, Tampa\, FL\, 33602\, United States
CATEGORIES:In Person Support Group,Social Event
ATTACH;FMTTYPE=image/jpeg:https://theinclusivehive.org/wp-content/uploads/2026/01/2026-February-Caregivers-1.jpg
END:VEVENT
BEGIN:VEVENT
DTSTART;TZID=America/New_York:20260421T200000
DTEND;TZID=America/New_York:20260421T210000
DTSTAMP:20260423T130431
CREATED:20260401T125556Z
LAST-MODIFIED:20260422T231919Z
UID:7644-1776801600-1776805200@theinclusivehive.org
SUMMARY:B.E.E. Disability Advocacy Panel
DESCRIPTION:This month we will meet on Zoom and test your trivia knowledge. \nBring a guest to the zoom to be entered Into a drawing to win an Amazon gift card. \nThis group has a new Zoom link. Please use this link for these meetings ongoing. \nJoin Zoom Meeting\nhttps://zoom.us/j/97747109639?pwd=I37k4C8F7xhE6HBG6DBZyCAbzH8jwv.1 \nMeeting ID: 977 4710 9639\nPasscode: 650516
URL:https://theinclusivehive.org/event/b-e-e-disability-advocacy-panel-2/
LOCATION:FL
CATEGORIES:Online Support Group,Social Event
ATTACH;FMTTYPE=image/jpeg:https://theinclusivehive.org/wp-content/uploads/2026/04/2026-April-Disability-Group-1.jpg
END:VEVENT
END:VCALENDAR