BEGIN:VCALENDAR
VERSION:2.0
PRODID:-//The Hive Inclusive Community - ECPv6.15.20//NONSGML v1.0//EN
CALSCALE:GREGORIAN
METHOD:PUBLISH
X-WR-CALNAME:The Hive Inclusive Community
X-ORIGINAL-URL:https://theinclusivehive.org
X-WR-CALDESC:Events for The Hive Inclusive Community
REFRESH-INTERVAL;VALUE=DURATION:PT1H
X-Robots-Tag:noindex
X-PUBLISHED-TTL:PT1H
BEGIN:VTIMEZONE
TZID:America/New_York
BEGIN:DAYLIGHT
TZOFFSETFROM:-0500
TZOFFSETTO:-0400
TZNAME:EDT
DTSTART:20220313T070000
END:DAYLIGHT
BEGIN:STANDARD
TZOFFSETFROM:-0400
TZOFFSETTO:-0500
TZNAME:EST
DTSTART:20221106T060000
END:STANDARD
BEGIN:DAYLIGHT
TZOFFSETFROM:-0500
TZOFFSETTO:-0400
TZNAME:EDT
DTSTART:20230312T070000
END:DAYLIGHT
BEGIN:STANDARD
TZOFFSETFROM:-0400
TZOFFSETTO:-0500
TZNAME:EST
DTSTART:20231105T060000
END:STANDARD
BEGIN:DAYLIGHT
TZOFFSETFROM:-0500
TZOFFSETTO:-0400
TZNAME:EDT
DTSTART:20240310T070000
END:DAYLIGHT
BEGIN:STANDARD
TZOFFSETFROM:-0400
TZOFFSETTO:-0500
TZNAME:EST
DTSTART:20241103T060000
END:STANDARD
BEGIN:DAYLIGHT
TZOFFSETFROM:-0500
TZOFFSETTO:-0400
TZNAME:EDT
DTSTART:20250309T070000
END:DAYLIGHT
BEGIN:STANDARD
TZOFFSETFROM:-0400
TZOFFSETTO:-0500
TZNAME:EST
DTSTART:20251102T060000
END:STANDARD
BEGIN:DAYLIGHT
TZOFFSETFROM:-0500
TZOFFSETTO:-0400
TZNAME:EDT
DTSTART:20260308T070000
END:DAYLIGHT
BEGIN:STANDARD
TZOFFSETFROM:-0400
TZOFFSETTO:-0500
TZNAME:EST
DTSTART:20261101T060000
END:STANDARD
BEGIN:DAYLIGHT
TZOFFSETFROM:-0500
TZOFFSETTO:-0400
TZNAME:EDT
DTSTART:20270314T070000
END:DAYLIGHT
BEGIN:STANDARD
TZOFFSETFROM:-0400
TZOFFSETTO:-0500
TZNAME:EST
DTSTART:20271107T060000
END:STANDARD
END:VTIMEZONE
BEGIN:VEVENT
DTSTART;TZID=America/New_York:20260224T190000
DTEND;TZID=America/New_York:20260224T203000
DTSTAMP:20260421T055536
CREATED:20260128T202916Z
LAST-MODIFIED:20260217T191431Z
UID:7417-1771959600-1771965000@theinclusivehive.org
SUMMARY:B.E.E. Caregivers
DESCRIPTION:Join us this month at ulele. \nReservations are highly recommended so please RSVP by Thursday\, February 19th. \nPlease bring your ticket so we may scan it.
URL:https://theinclusivehive.org/event/b-e-e-caregivers-4/
LOCATION:ulele\, 1810 North Highland Avenue\, Tampa\, FL\, 33602\, United States
CATEGORIES:In Person Support Group,Social Event
ATTACH;FMTTYPE=image/jpeg:https://theinclusivehive.org/wp-content/uploads/2026/01/2026-February-Caregivers-1.jpg
END:VEVENT
BEGIN:VEVENT
DTSTART;TZID=America/New_York:20251118T190000
DTEND;TZID=America/New_York:20251118T203000
DTSTAMP:20260421T055536
CREATED:20251107T023519Z
LAST-MODIFIED:20251107T025237Z
UID:7076-1763492400-1763497800@theinclusivehive.org
SUMMARY:B.E.E. Caregivers
DESCRIPTION:Join your fellow Caregivers for dinner at Wagamama \n7:00 pm at 1050 Water St\, Tampa\, FL. \nWagamama validates parking for up to 3 hours free at the Cumberland Garage. \nReservations are highly recommended so please RSVP.
URL:https://theinclusivehive.org/event/b-e-e-caregivers-3/
LOCATION:Cumberland Garage\, 1045 E Cumberland Ave\, Tampa\, FL\, Tampa\, FL\, 33602\, United States
CATEGORIES:In Person Support Group,Social Event
END:VEVENT
BEGIN:VEVENT
DTSTART;TZID=America/New_York:20250422T190000
DTEND;TZID=America/New_York:20250422T203000
DTSTAMP:20260421T055536
CREATED:20250402T225723Z
LAST-MODIFIED:20250402T225736Z
UID:6399-1745348400-1745353800@theinclusivehive.org
SUMMARY:B.E.E. Caregivers - Dinner with a Beautiful Sunset
DESCRIPTION:We are meeting up at Salt Shack Tampa to enjoy appetizers and a beautiful sunset. \nPlease join us at 7 PM. Sunset will be around 8 PM. \n 
URL:https://theinclusivehive.org/event/b-e-e-caregivers-dinner-with-a-beautiful-sunset/
LOCATION:Salt Shack on Tyson\, 5415 W. Tyson\, Tampa\, FL\, 33611\, United States
CATEGORIES:In Person Support Group
ATTACH;FMTTYPE=image/jpeg:https://theinclusivehive.org/wp-content/uploads/2025/04/April-2025-Caregivers.jpg
END:VEVENT
BEGIN:VEVENT
DTSTART;TZID=America/New_York:20250225T190000
DTEND;TZID=America/New_York:20250225T200000
DTSTAMP:20260421T055536
CREATED:20250122T185121Z
LAST-MODIFIED:20250209T205623Z
UID:6117-1740510000-1740513600@theinclusivehive.org
SUMMARY:B.E.E. Caregivers - Mad Dogs and Englishman Pub
DESCRIPTION:Join other Caregivers for a fun evening enjoying English pub food. \n  \n 
URL:https://theinclusivehive.org/event/b-e-e-caregivers-mad-dogs-and-englishman-pub/
LOCATION:Mad Dogs and Englishmen\, 4914 South MacDill Avenue\, Tampa\, 33611\, United States
CATEGORIES:In Person Support Group
ATTACH;FMTTYPE=image/jpeg:https://theinclusivehive.org/wp-content/uploads/2025/01/2025-February-Caregivers-1.jpg
END:VEVENT
BEGIN:VEVENT
DTSTART;TZID=America/New_York:20240423T190000
DTEND;TZID=America/New_York:20240423T200000
DTSTAMP:20260421T055536
CREATED:20240404T123352Z
LAST-MODIFIED:20240404T123352Z
UID:4923-1713898800-1713902400@theinclusivehive.org
SUMMARY:Caregiver B.E.E. Group
DESCRIPTION:April Caregiver topic: Navigating Health Systems\nGuest speaker: Yvette Guzman! ?\nThe Caregiver B.E.E. Group will again meet in person at the Panera Bread on S. Howard Avenue. \nJoin us over a cup of coffee with others as Yvette shares with us tips for navigating health care systems. Together\, let’s create a space of warmth\, understanding\, and mutual encouragement.
URL:https://theinclusivehive.org/event/caregiver-b-e-e-group-8/
LOCATION:Panera Bread\, 701 S. Howard Avenue\, Tampa\, FL\, 33606\, United States
CATEGORIES:In Person Support Group
ATTACH;FMTTYPE=image/png:https://theinclusivehive.org/wp-content/uploads/2024/04/Yvette-Guzman.png
END:VEVENT
BEGIN:VEVENT
DTSTART;TZID=America/New_York:20240326T190000
DTEND;TZID=America/New_York:20240326T200000
DTSTAMP:20260421T055536
CREATED:20240227T205348Z
LAST-MODIFIED:20240301T183453Z
UID:4803-1711479600-1711483200@theinclusivehive.org
SUMMARY:Caregiver B.E.E. Group
DESCRIPTION:March Topic: Positive Moments\nGuest Speaker: n/a \nJoin us the 4rth Tuesday of the month. \nFor March\, we will meet in person at Panera Bread on S. Howard Avenue. \nCome ready to join the conversation with other caregivers. \n 
URL:https://theinclusivehive.org/event/caregiver-b-e-e-group-7/
LOCATION:Panera Bread\, 701 S. Howard Avenue\, Tampa\, FL\, 33606\, United States
CATEGORIES:In Person Support Group
END:VEVENT
BEGIN:VEVENT
DTSTART;TZID=America/New_York:20230304T123000
DTEND;TZID=America/New_York:20230304T133000
DTSTAMP:20260421T055536
CREATED:20230209T025840Z
LAST-MODIFIED:20230209T025840Z
UID:2203-1677933000-1677936600@theinclusivehive.org
SUMMARY:Disability B.E.E. Group
DESCRIPTION:Be Empowered Everyday support group for individuals with disabilities. Our focus for the year is mind\, body\, wellness. We will have an esthetician from Enchanteria sharing about skincare from the inside out. \nFree with membership
URL:https://theinclusivehive.org/event/disability-b-e-e-group/
LOCATION:Bayshore Baptist Church\, 3111 W. Morrison\, Tampa\, FL\, 33629\, United States
CATEGORIES:In Person Support Group
END:VEVENT
BEGIN:VEVENT
DTSTART;TZID=America/New_York:20230304T123000
DTEND;TZID=America/New_York:20230304T133000
DTSTAMP:20260421T055536
CREATED:20230209T025455Z
LAST-MODIFIED:20230209T025455Z
UID:2200-1677933000-1677936600@theinclusivehive.org
SUMMARY:Caregiver B.E.E. Group
DESCRIPTION:Be Empowered Everyday support group for caregivers. Our focus for the year is mind\, body\, wellness. We will have an esthetician from Enchanteria sharing about skincare from the inside out. \nFree with Membership
URL:https://theinclusivehive.org/event/caregiver-b-e-e-group/
LOCATION:Bayshore Baptist Church\, 3111 W. Morrison\, Tampa\, FL\, 33629\, United States
CATEGORIES:In Person Support Group
END:VEVENT
BEGIN:VEVENT
DTSTART;TZID=America/New_York:20230204T123000
DTEND;TZID=America/New_York:20230204T133000
DTSTAMP:20260421T055536
CREATED:20230125T024310Z
LAST-MODIFIED:20230125T025743Z
UID:2135-1675513800-1675517400@theinclusivehive.org
SUMMARY:B.E.E. Groups (Support Group) Speaker Series
DESCRIPTION:Free with Membership \nIn person support groups for Caregivers and Individuals with Disabilities. The speaker for this event will be Stephanie Parker. Topic: The Power of Hope
URL:https://theinclusivehive.org/event/b-e-e-groups-support-group-speaker-series/
LOCATION:Bayshore Baptist Church\, 3111 W. Morrison\, Tampa\, FL\, 33629\, United States
CATEGORIES:In Person Support Group
END:VEVENT
END:VCALENDAR