BEGIN:VCALENDAR
VERSION:2.0
PRODID:-//The Hive Inclusive Community - ECPv6.15.20//NONSGML v1.0//EN
CALSCALE:GREGORIAN
METHOD:PUBLISH
X-WR-CALNAME:The Hive Inclusive Community
X-ORIGINAL-URL:https://theinclusivehive.org
X-WR-CALDESC:Events for The Hive Inclusive Community
REFRESH-INTERVAL;VALUE=DURATION:PT1H
X-Robots-Tag:noindex
X-PUBLISHED-TTL:PT1H
BEGIN:VTIMEZONE
TZID:America/New_York
BEGIN:DAYLIGHT
TZOFFSETFROM:-0500
TZOFFSETTO:-0400
TZNAME:EDT
DTSTART:20230312T070000
END:DAYLIGHT
BEGIN:STANDARD
TZOFFSETFROM:-0400
TZOFFSETTO:-0500
TZNAME:EST
DTSTART:20231105T060000
END:STANDARD
BEGIN:DAYLIGHT
TZOFFSETFROM:-0500
TZOFFSETTO:-0400
TZNAME:EDT
DTSTART:20240310T070000
END:DAYLIGHT
BEGIN:STANDARD
TZOFFSETFROM:-0400
TZOFFSETTO:-0500
TZNAME:EST
DTSTART:20241103T060000
END:STANDARD
BEGIN:DAYLIGHT
TZOFFSETFROM:-0500
TZOFFSETTO:-0400
TZNAME:EDT
DTSTART:20250309T070000
END:DAYLIGHT
BEGIN:STANDARD
TZOFFSETFROM:-0400
TZOFFSETTO:-0500
TZNAME:EST
DTSTART:20251102T060000
END:STANDARD
END:VTIMEZONE
BEGIN:VEVENT
DTSTART;TZID=America/New_York:20240713T110000
DTEND;TZID=America/New_York:20240713T123000
DTSTAMP:20260421T121654
CREATED:20240626T202302Z
LAST-MODIFIED:20240626T202302Z
UID:5288-1720868400-1720873800@theinclusivehive.org
SUMMARY:Fashion Show Model Walk Practice
DESCRIPTION:All models for this year’s Beauty of Inclusion Fashion Show should plan to join us Saturday\, July 13th to practice the art of walking the runway.
URL:https://theinclusivehive.org/event/fashion-show-model-walk-practice/
LOCATION:John F. Germany Public Library Auditorium\, 900 N. Ashley Dr.\, Tampa\, FL\, 33602\, United States
CATEGORIES:Fundraiser
END:VEVENT
BEGIN:VEVENT
DTSTART;TZID=America/New_York:20240720T190000
DTEND;TZID=America/New_York:20240720T210000
DTSTAMP:20260421T121654
CREATED:20240521T171101Z
LAST-MODIFIED:20240715T200128Z
UID:5009-1721502000-1721509200@theinclusivehive.org
SUMMARY:Beauty of Inclusion Fashion Show 2024
DESCRIPTION:Join us at Kings Point Sun City Center for The Hive’s Beauty of Inclusion Fashion Show.\nVIPs please arrive at 6 PM.\nGeneral Admission 7 – 9 PM\, doors will open at 6:45 PM.\nThe Fashion Show fundraiser will highlight the beauty of inclusion. Local designer Aarushi Pratap will be showcased with our community members and friends modeling their creations. We will also feature apparel from local shops.\nBuy your tickets today! 
URL:https://theinclusivehive.org/event/2024-fashion-show/
LOCATION:Kings Point Sun City Center\, 1900 Clubhouse Dr\, Sun City Center\, FL\, 33573\, United States
CATEGORIES:Fundraiser
END:VEVENT
END:VCALENDAR