BEGIN:VCALENDAR
VERSION:2.0
PRODID:-//The Hive Inclusive Community - ECPv6.15.20//NONSGML v1.0//EN
CALSCALE:GREGORIAN
METHOD:PUBLISH
X-ORIGINAL-URL:https://theinclusivehive.org
X-WR-CALDESC:Events for The Hive Inclusive Community
REFRESH-INTERVAL;VALUE=DURATION:PT1H
X-Robots-Tag:noindex
X-PUBLISHED-TTL:PT1H
BEGIN:VTIMEZONE
TZID:America/New_York
BEGIN:DAYLIGHT
TZOFFSETFROM:-0500
TZOFFSETTO:-0400
TZNAME:EDT
DTSTART:20250309T070000
END:DAYLIGHT
BEGIN:STANDARD
TZOFFSETFROM:-0400
TZOFFSETTO:-0500
TZNAME:EST
DTSTART:20251102T060000
END:STANDARD
BEGIN:DAYLIGHT
TZOFFSETFROM:-0500
TZOFFSETTO:-0400
TZNAME:EDT
DTSTART:20260308T070000
END:DAYLIGHT
BEGIN:STANDARD
TZOFFSETFROM:-0400
TZOFFSETTO:-0500
TZNAME:EST
DTSTART:20261101T060000
END:STANDARD
BEGIN:DAYLIGHT
TZOFFSETFROM:-0500
TZOFFSETTO:-0400
TZNAME:EDT
DTSTART:20270314T070000
END:DAYLIGHT
BEGIN:STANDARD
TZOFFSETFROM:-0400
TZOFFSETTO:-0500
TZNAME:EST
DTSTART:20271107T060000
END:STANDARD
END:VTIMEZONE
BEGIN:VEVENT
DTSTART;TZID=America/New_York:20260222T150000
DTEND;TZID=America/New_York:20260222T170000
DTSTAMP:20260421T220239
CREATED:20260128T203731Z
LAST-MODIFIED:20260206T191811Z
UID:7424-1771772400-1771779600@theinclusivehive.org
SUMMARY:Creative Art Class:  Finding the Light Through Sun-Prints
DESCRIPTION:At The Hive\, we believe that every individual carries a unique beauty that the world needs to see. This month\, our creative arts class for adults with disabilities stepped into the Florida sunshine to explore the “glorious entanglement” of art and science through the magic of Cyanotypes (Sun-Prints). \n  \n 
URL:https://theinclusivehive.org/event/art-gardening/
LOCATION:Country Lake Park\, 15728 Country Lake Dr\, Tampa\, 33624\, United States
CATEGORIES:Classes
ATTACH;FMTTYPE=image/png:https://theinclusivehive.org/wp-content/uploads/2026/01/2026-February-Art-Class.png
END:VEVENT
END:VCALENDAR