BEGIN:VCALENDAR
VERSION:2.0
PRODID:-//The Hive Inclusive Community - ECPv6.15.20//NONSGML v1.0//EN
CALSCALE:GREGORIAN
METHOD:PUBLISH
X-WR-CALNAME:The Hive Inclusive Community
X-ORIGINAL-URL:https://theinclusivehive.org
X-WR-CALDESC:Events for The Hive Inclusive Community
REFRESH-INTERVAL;VALUE=DURATION:PT1H
X-Robots-Tag:noindex
X-PUBLISHED-TTL:PT1H
BEGIN:VTIMEZONE
TZID:America/New_York
BEGIN:DAYLIGHT
TZOFFSETFROM:-0500
TZOFFSETTO:-0400
TZNAME:EDT
DTSTART:20230312T070000
END:DAYLIGHT
BEGIN:STANDARD
TZOFFSETFROM:-0400
TZOFFSETTO:-0500
TZNAME:EST
DTSTART:20231105T060000
END:STANDARD
BEGIN:DAYLIGHT
TZOFFSETFROM:-0500
TZOFFSETTO:-0400
TZNAME:EDT
DTSTART:20240310T070000
END:DAYLIGHT
BEGIN:STANDARD
TZOFFSETFROM:-0400
TZOFFSETTO:-0500
TZNAME:EST
DTSTART:20241103T060000
END:STANDARD
BEGIN:DAYLIGHT
TZOFFSETFROM:-0500
TZOFFSETTO:-0400
TZNAME:EDT
DTSTART:20250309T070000
END:DAYLIGHT
BEGIN:STANDARD
TZOFFSETFROM:-0400
TZOFFSETTO:-0500
TZNAME:EST
DTSTART:20251102T060000
END:STANDARD
BEGIN:DAYLIGHT
TZOFFSETFROM:-0500
TZOFFSETTO:-0400
TZNAME:EDT
DTSTART:20260308T070000
END:DAYLIGHT
BEGIN:STANDARD
TZOFFSETFROM:-0400
TZOFFSETTO:-0500
TZNAME:EST
DTSTART:20261101T060000
END:STANDARD
BEGIN:DAYLIGHT
TZOFFSETFROM:-0500
TZOFFSETTO:-0400
TZNAME:EDT
DTSTART:20270314T070000
END:DAYLIGHT
BEGIN:STANDARD
TZOFFSETFROM:-0400
TZOFFSETTO:-0500
TZNAME:EST
DTSTART:20271107T060000
END:STANDARD
END:VTIMEZONE
BEGIN:VEVENT
DTSTART;TZID=America/New_York:20241119T190000
DTEND;TZID=America/New_York:20241119T200000
DTSTAMP:20260422T184559
CREATED:20241106T010549Z
LAST-MODIFIED:20241114T214733Z
UID:5934-1732042800-1732046400@theinclusivehive.org
SUMMARY:Hive Community Event - Pumpkin Pie from Scratch
DESCRIPTION:Join us on Zoom and learn to make pumpkin pie from scratch. \nOnce you sign up\, you will receive an ingredients list so you can join in the fun. \nZoom information \nhttps://zoom.us/j/7098055532?pwd=eUwxZ1ZHbE9jdXNHOXRpOFprLzZBZz09&omn=96184433155\n\nMeeting ID: 709 805 5532\nPasscode: 746382
URL:https://theinclusivehive.org/event/caregiver-b-e-e-group-pumpkin-pie-from-scratch/
CATEGORIES:Classes,Social Event
ATTACH;FMTTYPE=image/jpeg:https://theinclusivehive.org/wp-content/uploads/2024/11/image000000_20241105_195710.jpg
END:VEVENT
BEGIN:VEVENT
DTSTART;TZID=America/New_York:20250220T070000
DTEND;TZID=America/New_York:20250220T200000
DTSTAMP:20260422T184559
CREATED:20250122T155318Z
LAST-MODIFIED:20250218T000734Z
UID:6103-1740034800-1740081600@theinclusivehive.org
SUMMARY:Cooking - Gumbo
DESCRIPTION:Join Tonya’s mom\, Cheryl Washington\, as she teaches us how to cook soul food. \nThis class will be on Zoom. \nJoin Zoom Meeting\nhttps://zoom.us/j/7098055532?pwd=eUwxZ1ZHbE9jdXNHOXRpOFprLzZBZz09&omn=96184433155 \nMeeting ID: 709 805 5532\nPasscode: 746382 \n 
URL:https://theinclusivehive.org/event/cooking-soul-food/
CATEGORIES:Classes,Online Class
ATTACH;FMTTYPE=image/jpeg:https://theinclusivehive.org/wp-content/uploads/2025/01/Soul-Food-Cooking_20250128_200157_0000.jpg
END:VEVENT
BEGIN:VEVENT
DTSTART;TZID=America/New_York:20250223T150000
DTEND;TZID=America/New_York:20250223T170000
DTSTAMP:20260422T184559
CREATED:20250122T152743Z
LAST-MODIFIED:20250218T000918Z
UID:6092-1740322800-1740330000@theinclusivehive.org
SUMMARY:February Gardening - Garden Sensory Experience
DESCRIPTION:Engage your senses at SLP with tea tasting\, herb and plant smelling\, chicken petting\, flower mandala creation\, and listening to calming nature sounds.\nThis activity offers a relaxing and interactive way to connect with nature.
URL:https://theinclusivehive.org/event/february-gardening-garden-sensory-experience/
LOCATION:SustainableLivingProject (SLP)\, 918 W Sligh Avenue\, Tampa\, FL\, 33604\, United States
CATEGORIES:Classes
ATTACH;FMTTYPE=image/jpeg:https://theinclusivehive.org/wp-content/uploads/2025/01/Sensory-Gardening.jpg
END:VEVENT
BEGIN:VEVENT
DTSTART;TZID=America/New_York:20250226T190000
DTEND;TZID=America/New_York:20250226T200000
DTSTAMP:20260422T184559
CREATED:20250209T205322Z
LAST-MODIFIED:20250221T184754Z
UID:6171-1740596400-1740600000@theinclusivehive.org
SUMMARY:Puppetry 101 - Learn Professional Techniques
DESCRIPTION:Join Chad Williams on Zoom to create your own puppets and learn the best techniques of  puppetry. \n\n\n\n\n\n\n\n\nWonderSpark Puppets is inviting you to a scheduled Zoom meeting.\nJoin Zoom Meeting\nhttps://us02web.zoom.us/j/89863172588?pwd=xXblrzNjFf3h1ecn3aiuQotXUMSOVT.1\nMeeting ID: 898 6317 2588\nPasscode: 723561\n\n\n\nPlease note: This is not The Hive Zoom but WonderSpark.
URL:https://theinclusivehive.org/event/puppetry-101-learn-professional-techniques/
CATEGORIES:Classes
ATTACH;FMTTYPE=image/jpeg:https://theinclusivehive.org/wp-content/uploads/2025/02/1.jpg
END:VEVENT
BEGIN:VEVENT
DTSTART;TZID=America/New_York:20250308T110000
DTEND;TZID=America/New_York:20250308T130000
DTSTAMP:20260422T184559
CREATED:20250122T173047Z
LAST-MODIFIED:20250307T195033Z
UID:6113-1741431600-1741438800@theinclusivehive.org
SUMMARY:Art - Creating Hearts Program
DESCRIPTION:This class is being postponed until Sunday\, April 27th to be held with Gardening – Art From Nature Workshop. Follow this link to sign up: \nhttps://theinclusivehive.org/website_e263b0a1/event/gardening-art-from-nature-workshop/ \n  \n“Creating Hearts Programs” is an initiative of the Kristin Tomasello Foundation that inspires creativity\, compassion\, and connection within the special needs community. Through art\, music\, and interactive activities\, we provide opportunities for individuals to express themselves\, build relationships\, and experience joy in a safe\, supportive environment. Our mission is to touch hearts\, foster inclusion\, and celebrate the unique abilities of every individual. \n 
URL:https://theinclusivehive.org/event/art-creating-hearts-program/
CATEGORIES:Classes
END:VEVENT
BEGIN:VEVENT
DTSTART;TZID=America/New_York:20250327T190000
DTEND;TZID=America/New_York:20250327T200000
DTSTAMP:20260422T184559
CREATED:20250122T155500Z
LAST-MODIFIED:20250122T155500Z
UID:6107-1743102000-1743105600@theinclusivehive.org
SUMMARY:Cooking - Tater Tots
DESCRIPTION:Join Tonya’s mom\, Cheryl Washington\, as she teaches us fun ways to cook tater tots. \nThis class will be on Zoom. \nJoin Zoom Meeting\nhttps://zoom.us/j/7098055532?pwd=eUwxZ1ZHbE9jdXNHOXRpOFprLzZBZz09&omn=96184433155 \nMeeting ID: 709 805 5532\nPasscode: 746382
URL:https://theinclusivehive.org/event/cooking-tater-tots/
CATEGORIES:Classes
END:VEVENT
BEGIN:VEVENT
DTSTART;TZID=America/New_York:20250408T190000
DTEND;TZID=America/New_York:20250408T200000
DTSTAMP:20260422T184559
CREATED:20250122T155700Z
LAST-MODIFIED:20250122T155700Z
UID:6110-1744138800-1744142400@theinclusivehive.org
SUMMARY:Cooking - Empanadas
DESCRIPTION:Join Hive Board Member\, Kim Mormon\, as she teaches us how to cook empanadas. \nThis class will be on Zoom. \nJoin Zoom Meeting\nhttps://zoom.us/j/7098055532?pwd=eUwxZ1ZHbE9jdXNHOXRpOFprLzZBZz09&omn=96184433155 \nMeeting ID: 709 805 5532\nPasscode: 746382
URL:https://theinclusivehive.org/event/cooking-empanadas/
CATEGORIES:Classes
END:VEVENT
BEGIN:VEVENT
DTSTART;TZID=America/New_York:20250726T150000
DTEND;TZID=America/New_York:20250726T170000
DTSTAMP:20260422T184559
CREATED:20250701T155556Z
LAST-MODIFIED:20250719T200240Z
UID:6517-1753542000-1753549200@theinclusivehive.org
SUMMARY:Game Night & Ice Cream Social
DESCRIPTION:Join us for exciting games & an ice cream social July 26 from 3-5 at Guardian Haven.
URL:https://theinclusivehive.org/event/hearts-in-movement/
LOCATION:Guardian Haven\, 5806 Breckenridge Pkwy Suite B\, Tampa\, FL\, 33610\, United States
CATEGORIES:Classes
ATTACH;FMTTYPE=image/jpeg:https://theinclusivehive.org/wp-content/uploads/2025/07/2025-July-Social-Event.jpg
END:VEVENT
BEGIN:VEVENT
DTSTART;TZID=America/New_York:20251116T140000
DTEND;TZID=America/New_York:20251116T160000
DTSTAMP:20260422T184559
CREATED:20251028T124103Z
LAST-MODIFIED:20251030T152241Z
UID:6943-1763301600-1763308800@theinclusivehive.org
SUMMARY:Etiquette Tea Class with Queen Katrina
DESCRIPTION:Join The Hive for an etiquette class & high tea taught by The Queen of Etiquette\, Mrs. Florida Classic Universe Katrina Spagnoletti. \nThe class will be held at 32022 Garden Alcove Loop in Wesley Chapel\, Gate Code: #0240.
URL:https://theinclusivehive.org/event/etiquette-tea-class-with-queen-katrina/
LOCATION:Etiquette Tea Class\, 32022 Garden Alcove Loop\, Wesley Chapel\, FL\, 33545\, United States
CATEGORIES:Classes,Social Event
END:VEVENT
BEGIN:VEVENT
DTSTART;TZID=America/New_York:20260222T150000
DTEND;TZID=America/New_York:20260222T170000
DTSTAMP:20260422T184559
CREATED:20260128T203731Z
LAST-MODIFIED:20260206T191811Z
UID:7424-1771772400-1771779600@theinclusivehive.org
SUMMARY:Creative Art Class:  Finding the Light Through Sun-Prints
DESCRIPTION:At The Hive\, we believe that every individual carries a unique beauty that the world needs to see. This month\, our creative arts class for adults with disabilities stepped into the Florida sunshine to explore the “glorious entanglement” of art and science through the magic of Cyanotypes (Sun-Prints). \n  \n 
URL:https://theinclusivehive.org/event/art-gardening/
LOCATION:Country Lake Park\, 15728 Country Lake Dr\, Tampa\, 33624\, United States
CATEGORIES:Classes
ATTACH;FMTTYPE=image/png:https://theinclusivehive.org/wp-content/uploads/2026/01/2026-February-Art-Class.png
END:VEVENT
END:VCALENDAR