BEGIN:VCALENDAR
VERSION:2.0
PRODID:-//The Hive Inclusive Community - ECPv6.15.20//NONSGML v1.0//EN
CALSCALE:GREGORIAN
METHOD:PUBLISH
X-ORIGINAL-URL:https://theinclusivehive.org
X-WR-CALDESC:Events for The Hive Inclusive Community
REFRESH-INTERVAL;VALUE=DURATION:PT1H
X-Robots-Tag:noindex
X-PUBLISHED-TTL:PT1H
BEGIN:VTIMEZONE
TZID:America/New_York
BEGIN:DAYLIGHT
TZOFFSETFROM:-0500
TZOFFSETTO:-0400
TZNAME:EDT
DTSTART:20230312T070000
END:DAYLIGHT
BEGIN:STANDARD
TZOFFSETFROM:-0400
TZOFFSETTO:-0500
TZNAME:EST
DTSTART:20231105T060000
END:STANDARD
BEGIN:DAYLIGHT
TZOFFSETFROM:-0500
TZOFFSETTO:-0400
TZNAME:EDT
DTSTART:20240310T070000
END:DAYLIGHT
BEGIN:STANDARD
TZOFFSETFROM:-0400
TZOFFSETTO:-0500
TZNAME:EST
DTSTART:20241103T060000
END:STANDARD
BEGIN:DAYLIGHT
TZOFFSETFROM:-0500
TZOFFSETTO:-0400
TZNAME:EDT
DTSTART:20250309T070000
END:DAYLIGHT
BEGIN:STANDARD
TZOFFSETFROM:-0400
TZOFFSETTO:-0500
TZNAME:EST
DTSTART:20251102T060000
END:STANDARD
END:VTIMEZONE
BEGIN:VEVENT
DTSTART;TZID=America/New_York:20240629T143000
DTEND;TZID=America/New_York:20240629T153000
DTSTAMP:20260421T190001
CREATED:20240523T195342Z
LAST-MODIFIED:20240621T145743Z
UID:5180-1719671400-1719675000@theinclusivehive.org
SUMMARY:Self-Publishing Made Easy: Content and Editing
DESCRIPTION:Join Chatequa Pinkston for Session 2: Self-Publishing Made Easy: Content and Editing \nThe goal of these sessions is to publish a book of short stories\, our stories of everyday victories of people with disabilities and their caregivers. \nPlease have your short stories into Chatequa by June 26th at chatequap@gmail.com. \nThis class has been changed to a Zoom meeting.  Please use this link to join the class. \nPlease click this URL to start or join. https://zoom.us/j/7098055532?pwd=eUwxZ1ZHbE9jdXNHOXRpOFprLzZBZz09\nOr\, go to https://zoom.us/join and enter meeting ID: 709 805 5532 and password: 74638
URL:https://theinclusivehive.org/event/self-publishing-made-easy-content-and-editing/
CATEGORIES:Classes
ATTACH;FMTTYPE=image/jpeg:https://theinclusivehive.org/wp-content/uploads/2024/05/2024-June-29-chatequa.jpg
END:VEVENT
END:VCALENDAR