BEGIN:VCALENDAR
VERSION:2.0
PRODID:-//The Hive Inclusive Community - ECPv6.15.20//NONSGML v1.0//EN
CALSCALE:GREGORIAN
METHOD:PUBLISH
X-ORIGINAL-URL:https://theinclusivehive.org
X-WR-CALDESC:Events for The Hive Inclusive Community
REFRESH-INTERVAL;VALUE=DURATION:PT1H
X-Robots-Tag:noindex
X-PUBLISHED-TTL:PT1H
BEGIN:VTIMEZONE
TZID:America/New_York
BEGIN:DAYLIGHT
TZOFFSETFROM:-0500
TZOFFSETTO:-0400
TZNAME:EDT
DTSTART:20230312T070000
END:DAYLIGHT
BEGIN:STANDARD
TZOFFSETFROM:-0400
TZOFFSETTO:-0500
TZNAME:EST
DTSTART:20231105T060000
END:STANDARD
BEGIN:DAYLIGHT
TZOFFSETFROM:-0500
TZOFFSETTO:-0400
TZNAME:EDT
DTSTART:20240310T070000
END:DAYLIGHT
BEGIN:STANDARD
TZOFFSETFROM:-0400
TZOFFSETTO:-0500
TZNAME:EST
DTSTART:20241103T060000
END:STANDARD
BEGIN:DAYLIGHT
TZOFFSETFROM:-0500
TZOFFSETTO:-0400
TZNAME:EDT
DTSTART:20250309T070000
END:DAYLIGHT
BEGIN:STANDARD
TZOFFSETFROM:-0400
TZOFFSETTO:-0500
TZNAME:EST
DTSTART:20251102T060000
END:STANDARD
END:VTIMEZONE
BEGIN:VEVENT
DTSTART;TZID=America/New_York:20240406T140000
DTEND;TZID=America/New_York:20240406T150000
DTSTAMP:20260421T221112
CREATED:20240404T123125Z
LAST-MODIFIED:20240404T123125Z
UID:4918-1712412000-1712415600@theinclusivehive.org
SUMMARY:Art Class - Vision Boards
DESCRIPTION:Calling all dreamers! ✨ \nAre you looking for a fun and empowering way to turn your goals into\nreality? Join our vision board class\, everyone is welcome! \nIn this class\, you’ll learn how to create a vision board that visually\nrepresents your hopes and dreams. It’s a great way to: \n– Boost your motivation\n– Focus on what matters most to you\n– Celebrate your achievements
URL:https://theinclusivehive.org/event/art-class-vision-boards/
LOCATION:Portico Cafe\, 1001 N. Florida Ave\, Tampa\, FL\, 33602\, United States
CATEGORIES:Classes
ATTACH;FMTTYPE=image/jpeg:https://theinclusivehive.org/wp-content/uploads/2024/04/2024-April-Newsletter-Vision-Board.jpg
END:VEVENT
BEGIN:VEVENT
DTSTART;TZID=America/New_York:20240420T140000
DTEND;TZID=America/New_York:20240420T150000
DTSTAMP:20260421T221112
CREATED:20240404T122636Z
LAST-MODIFIED:20240404T122636Z
UID:4914-1713621600-1713625200@theinclusivehive.org
SUMMARY:Community Table - Soup and Salad
DESCRIPTION:This month\, Board member Kim Morman will be joined by Ginain Grayes to show us how to make autumn wild rice soup and Caesar salad for this year’s Community Table. \nGinain is a local podcaster who advocates for sustainability and equitable food systems.
URL:https://theinclusivehive.org/event/community-table-soup-and-salad/
LOCATION:Portico Cafe\, 1001 N. Florida Ave\, Tampa\, FL\, 33602\, United States
CATEGORIES:Classes
ATTACH;FMTTYPE=image/jpeg:https://theinclusivehive.org/wp-content/uploads/2024/04/2024-April-newsletter-soup-2.jpg
END:VEVENT
END:VCALENDAR