BEGIN:VCALENDAR
VERSION:2.0
PRODID:-//The Hive Inclusive Community - ECPv6.15.20//NONSGML v1.0//EN
CALSCALE:GREGORIAN
METHOD:PUBLISH
X-WR-CALNAME:The Hive Inclusive Community
X-ORIGINAL-URL:https://theinclusivehive.org
X-WR-CALDESC:Events for The Hive Inclusive Community
REFRESH-INTERVAL;VALUE=DURATION:PT1H
X-Robots-Tag:noindex
X-PUBLISHED-TTL:PT1H
BEGIN:VTIMEZONE
TZID:America/New_York
BEGIN:DAYLIGHT
TZOFFSETFROM:-0500
TZOFFSETTO:-0400
TZNAME:EDT
DTSTART:20230312T070000
END:DAYLIGHT
BEGIN:STANDARD
TZOFFSETFROM:-0400
TZOFFSETTO:-0500
TZNAME:EST
DTSTART:20231105T060000
END:STANDARD
BEGIN:DAYLIGHT
TZOFFSETFROM:-0500
TZOFFSETTO:-0400
TZNAME:EDT
DTSTART:20240310T070000
END:DAYLIGHT
BEGIN:STANDARD
TZOFFSETFROM:-0400
TZOFFSETTO:-0500
TZNAME:EST
DTSTART:20241103T060000
END:STANDARD
BEGIN:DAYLIGHT
TZOFFSETFROM:-0500
TZOFFSETTO:-0400
TZNAME:EDT
DTSTART:20250309T070000
END:DAYLIGHT
BEGIN:STANDARD
TZOFFSETFROM:-0400
TZOFFSETTO:-0500
TZNAME:EST
DTSTART:20251102T060000
END:STANDARD
END:VTIMEZONE
BEGIN:VEVENT
DTSTART;TZID=America/New_York:20240113T140000
DTEND;TZID=America/New_York:20240113T150000
DTSTAMP:20260422T023046
CREATED:20231221T141451Z
LAST-MODIFIED:20240108T182927Z
UID:4556-1705154400-1705158000@theinclusivehive.org
SUMMARY:Train the Trainer
DESCRIPTION:This class will teach our members how they can be a trainer.  We will share ideas and techniques for holding classes in their particular interests. \nPlease note this training will be on Zoom and not in person. \nJoin using this link:    https://zoom.us/j/7098055532?pwd=eUwxZ1ZHbE9jdXNHOXRpOFprLzZBZz09
URL:https://theinclusivehive.org/event/train-the-trainer/
CATEGORIES:Classes
END:VEVENT
BEGIN:VEVENT
DTSTART;TZID=America/New_York:20240127T140000
DTEND;TZID=America/New_York:20240127T150000
DTSTAMP:20260422T023046
CREATED:20240105T164753Z
LAST-MODIFIED:20240106T204214Z
UID:4592-1706364000-1706367600@theinclusivehive.org
SUMMARY:Wellness Event
DESCRIPTION:This month’s wellness event will have 3 stations for participants to rotate through to learn tools for improving wellness. The stations are: boxing\, rec therapy and yoga. \nJoin us onsite at the Portico Café.
URL:https://theinclusivehive.org/event/wellness-event-2/
LOCATION:Portico Cafe\, 1001 N. Florida Ave\, Tampa\, FL\, 33602\, United States
CATEGORIES:Classes
ATTACH;FMTTYPE=image/jpeg:https://theinclusivehive.org/wp-content/uploads/2024/01/Wellness-Event.jpg
END:VEVENT
END:VCALENDAR