BEGIN:VCALENDAR
VERSION:2.0
PRODID:-//The Hive Inclusive Community - ECPv6.15.20//NONSGML v1.0//EN
CALSCALE:GREGORIAN
METHOD:PUBLISH
X-WR-CALNAME:The Hive Inclusive Community
X-ORIGINAL-URL:https://theinclusivehive.org
X-WR-CALDESC:Events for The Hive Inclusive Community
REFRESH-INTERVAL;VALUE=DURATION:PT1H
X-Robots-Tag:noindex
X-PUBLISHED-TTL:PT1H
BEGIN:VTIMEZONE
TZID:America/New_York
BEGIN:DAYLIGHT
TZOFFSETFROM:-0500
TZOFFSETTO:-0400
TZNAME:EDT
DTSTART:20220313T070000
END:DAYLIGHT
BEGIN:STANDARD
TZOFFSETFROM:-0400
TZOFFSETTO:-0500
TZNAME:EST
DTSTART:20221106T060000
END:STANDARD
BEGIN:DAYLIGHT
TZOFFSETFROM:-0500
TZOFFSETTO:-0400
TZNAME:EDT
DTSTART:20230312T070000
END:DAYLIGHT
BEGIN:STANDARD
TZOFFSETFROM:-0400
TZOFFSETTO:-0500
TZNAME:EST
DTSTART:20231105T060000
END:STANDARD
BEGIN:DAYLIGHT
TZOFFSETFROM:-0500
TZOFFSETTO:-0400
TZNAME:EDT
DTSTART:20240310T070000
END:DAYLIGHT
BEGIN:STANDARD
TZOFFSETFROM:-0400
TZOFFSETTO:-0500
TZNAME:EST
DTSTART:20241103T060000
END:STANDARD
END:VTIMEZONE
BEGIN:VEVENT
DTSTART;TZID=America/New_York:20230909T140000
DTEND;TZID=America/New_York:20230909T150000
DTSTAMP:20260422T082613
CREATED:20230825T162208Z
LAST-MODIFIED:20230825T162208Z
UID:3842-1694268000-1694271600@theinclusivehive.org
SUMMARY:Community Table - Flower Arrangements for Center Pieces
DESCRIPTION:Join us at our new location Portico Café to learn flower arranging in preparation for the Community Table.
URL:https://theinclusivehive.org/event/community-table-flower-arrangements-for-center-pieces/
LOCATION:Portico Cafe\, 1001 N. Florida Ave\, Tampa\, FL\, 33602\, United States
CATEGORIES:Classes
END:VEVENT
BEGIN:VEVENT
DTSTART;TZID=America/New_York:20230921T190000
DTEND;TZID=America/New_York:20230921T200000
DTSTAMP:20260422T082613
CREATED:20230825T162536Z
LAST-MODIFIED:20230825T162536Z
UID:3847-1695322800-1695326400@theinclusivehive.org
SUMMARY:Disability B.E.E. Business Group
DESCRIPTION:Our Disability B.E.E. Group is starting back up online. \nJoin Disability B.E.E. Group\nhttps://zoom.us/j/7098055532?pwd=eUwxZ1ZHbE9jdXNHOXRpOFprLzZBZz09
URL:https://theinclusivehive.org/event/disability-b-e-e-business-group/
CATEGORIES:Classes
END:VEVENT
END:VCALENDAR