BEGIN:VCALENDAR
VERSION:2.0
PRODID:-//The Hive Inclusive Community - ECPv6.15.20//NONSGML v1.0//EN
CALSCALE:GREGORIAN
METHOD:PUBLISH
X-WR-CALNAME:The Hive Inclusive Community
X-ORIGINAL-URL:https://theinclusivehive.org
X-WR-CALDESC:Events for The Hive Inclusive Community
REFRESH-INTERVAL;VALUE=DURATION:PT1H
X-Robots-Tag:noindex
X-PUBLISHED-TTL:PT1H
BEGIN:VTIMEZONE
TZID:America/New_York
BEGIN:DAYLIGHT
TZOFFSETFROM:-0500
TZOFFSETTO:-0400
TZNAME:EDT
DTSTART:20210314T070000
END:DAYLIGHT
BEGIN:STANDARD
TZOFFSETFROM:-0400
TZOFFSETTO:-0500
TZNAME:EST
DTSTART:20211107T060000
END:STANDARD
BEGIN:DAYLIGHT
TZOFFSETFROM:-0500
TZOFFSETTO:-0400
TZNAME:EDT
DTSTART:20220313T070000
END:DAYLIGHT
BEGIN:STANDARD
TZOFFSETFROM:-0400
TZOFFSETTO:-0500
TZNAME:EST
DTSTART:20221106T060000
END:STANDARD
BEGIN:DAYLIGHT
TZOFFSETFROM:-0500
TZOFFSETTO:-0400
TZNAME:EDT
DTSTART:20230312T070000
END:DAYLIGHT
BEGIN:STANDARD
TZOFFSETFROM:-0400
TZOFFSETTO:-0500
TZNAME:EST
DTSTART:20231105T060000
END:STANDARD
END:VTIMEZONE
BEGIN:VEVENT
DTSTART;TZID=America/New_York:20221105T123000
DTEND;TZID=America/New_York:20221105T133000
DTSTAMP:20260423T085950
CREATED:20221024T162753Z
LAST-MODIFIED:20221024T162753Z
UID:1942-1667651400-1667655000@theinclusivehive.org
SUMMARY:Disability Support Group
DESCRIPTION:Disability Support Group
URL:https://theinclusivehive.org/event/disability-support-group-2/
LOCATION:Bayshore Baptist Church\, 3111 W. Morrison\, Tampa\, FL\, 33629\, United States
END:VEVENT
BEGIN:VEVENT
DTSTART;TZID=America/New_York:20221105T123000
DTEND;TZID=America/New_York:20221105T133000
DTSTAMP:20260423T085950
CREATED:20221024T163016Z
LAST-MODIFIED:20221024T163016Z
UID:1946-1667651400-1667655000@theinclusivehive.org
SUMMARY:Caregiver Support Group
DESCRIPTION:A licensed mental health specialist will be discussing mental health wellness for the Caregiver.
URL:https://theinclusivehive.org/event/caregiver-support-group-3/
LOCATION:Bayshore Baptist Church\, 3111 W. Morrison\, Tampa\, FL\, 33629\, United States
END:VEVENT
BEGIN:VEVENT
DTSTART;TZID=America/New_York:20221105T140000
DTEND;TZID=America/New_York:20221105T153000
DTSTAMP:20260423T085950
CREATED:20221024T161042Z
LAST-MODIFIED:20221024T172549Z
UID:1939-1667656800-1667662200@theinclusivehive.org
SUMMARY:Navigating Medicaid Waiver
DESCRIPTION:Christine Kramer\, CEO of Hope for Life caregiving agency and Courtney Gromling\, Waiver Support Coordinator will be discussing how to navigate the Medicaid Waiver process. Q&A session after presentation. Event free with Membership.
URL:https://theinclusivehive.org/event/navigating-medicaid-waiver/
LOCATION:Bayshore Baptist Church\, 3111 W. Morrison\, Tampa\, FL\, 33629\, United States
END:VEVENT
END:VCALENDAR